BEGIN:VCALENDAR
VERSION:2.0
PRODID:-//Кафедра востоковедения АлтГУ - ECPv5.1.0//NONSGML v1.0//EN
CALSCALE:GREGORIAN
METHOD:PUBLISH
X-WR-CALNAME:Кафедра востоковедения АлтГУ
X-ORIGINAL-URL:https://orient.asu.ru
X-WR-CALDESC:События для Кафедра востоковедения АлтГУ
BEGIN:VTIMEZONE
TZID:Asia/Krasnoyarsk
BEGIN:STANDARD
TZOFFSETFROM:+0700
TZOFFSETTO:+0700
TZNAME:+07
DTSTART:20170101T000000
END:STANDARD
END:VTIMEZONE
BEGIN:VEVENT
DTSTART;VALUE=DATE:20170427
DTEND;VALUE=DATE:20170428
DTSTAMP:20260424T214923
CREATED:20170407T015632Z
LAST-MODIFIED:20170407T015723Z
UID:891-1493251200-1493337599@orient.asu.ru
SUMMARY:Дни молодежной науки – 2017
DESCRIPTION:IV региональная молодежная конференция «Мой выбор – наука!» в рамках общеуниверситетского «Молодежного научного форума».  \nКафедра востоковедения приглашает принять желающих участие в секциях: \n\nКНР: актуальные проблемы политического и социально-экономического развития\nИстория\, культура и религия Китая\nАктуальные проблемы межкультурной коммуникации и развития китайского языка\n\nПодробности регистрации можно прочитать здесь. \n
URL:https://orient.asu.ru/event/dni-molodezhnoy-nauki-2017
END:VEVENT
END:VCALENDAR